BEGIN:VCALENDAR
VERSION:2.0
PRODID:-//Consortium of Florida Education Foundations - ECPv6.15.15//NONSGML v1.0//EN
CALSCALE:GREGORIAN
METHOD:PUBLISH
X-ORIGINAL-URL:https://educationfoundationsfl.org
X-WR-CALDESC:Events for Consortium of Florida Education Foundations
REFRESH-INTERVAL;VALUE=DURATION:PT1H
X-Robots-Tag:noindex
X-PUBLISHED-TTL:PT1H
BEGIN:VTIMEZONE
TZID:America/New_York
BEGIN:DAYLIGHT
TZOFFSETFROM:-0500
TZOFFSETTO:-0400
TZNAME:EDT
DTSTART:20250309T070000
END:DAYLIGHT
BEGIN:STANDARD
TZOFFSETFROM:-0400
TZOFFSETTO:-0500
TZNAME:EST
DTSTART:20251102T060000
END:STANDARD
BEGIN:DAYLIGHT
TZOFFSETFROM:-0500
TZOFFSETTO:-0400
TZNAME:EDT
DTSTART:20260308T070000
END:DAYLIGHT
BEGIN:STANDARD
TZOFFSETFROM:-0400
TZOFFSETTO:-0500
TZNAME:EST
DTSTART:20261101T060000
END:STANDARD
BEGIN:DAYLIGHT
TZOFFSETFROM:-0500
TZOFFSETTO:-0400
TZNAME:EDT
DTSTART:20270314T070000
END:DAYLIGHT
BEGIN:STANDARD
TZOFFSETFROM:-0400
TZOFFSETTO:-0500
TZNAME:EST
DTSTART:20271107T060000
END:STANDARD
END:VTIMEZONE
BEGIN:VEVENT
DTSTART;TZID=America/New_York:20260114T090000
DTEND;TZID=America/New_York:20260115T113000
DTSTAMP:20260422T090048
CREATED:20251007T145009Z
LAST-MODIFIED:20251218T163415Z
UID:10002-1768381200-1768476600@educationfoundationsfl.org
SUMMARY:Consortium Day at the Capitol & Winter Conference
DESCRIPTION:Content is protected.
URL:https://educationfoundationsfl.org/event/consortium-spring-conference-day-at-the-capitol/
LOCATION:Tallahassee
CATEGORIES:Private Event
ORGANIZER;CN="Tracy Burger":MAILTO:tracyburger@cfef.net
END:VEVENT
END:VCALENDAR