BEGIN:VCALENDAR
VERSION:2.0
PRODID:-//Consortium of Florida Education Foundations - ECPv6.15.15//NONSGML v1.0//EN
CALSCALE:GREGORIAN
METHOD:PUBLISH
X-WR-CALNAME:Consortium of Florida Education Foundations
X-ORIGINAL-URL:https://educationfoundationsfl.org
X-WR-CALDESC:Events for Consortium of Florida Education Foundations
REFRESH-INTERVAL;VALUE=DURATION:PT1H
X-Robots-Tag:noindex
X-PUBLISHED-TTL:PT1H
BEGIN:VTIMEZONE
TZID:America/New_York
BEGIN:DAYLIGHT
TZOFFSETFROM:-0500
TZOFFSETTO:-0400
TZNAME:EDT
DTSTART:20240310T070000
END:DAYLIGHT
BEGIN:STANDARD
TZOFFSETFROM:-0400
TZOFFSETTO:-0500
TZNAME:EST
DTSTART:20241103T060000
END:STANDARD
BEGIN:DAYLIGHT
TZOFFSETFROM:-0500
TZOFFSETTO:-0400
TZNAME:EDT
DTSTART:20250309T070000
END:DAYLIGHT
BEGIN:STANDARD
TZOFFSETFROM:-0400
TZOFFSETTO:-0500
TZNAME:EST
DTSTART:20251102T060000
END:STANDARD
BEGIN:DAYLIGHT
TZOFFSETFROM:-0500
TZOFFSETTO:-0400
TZNAME:EDT
DTSTART:20260308T070000
END:DAYLIGHT
BEGIN:STANDARD
TZOFFSETFROM:-0400
TZOFFSETTO:-0500
TZNAME:EST
DTSTART:20261101T060000
END:STANDARD
END:VTIMEZONE
BEGIN:VEVENT
DTSTART;TZID=America/New_York:20250409T090000
DTEND;TZID=America/New_York:20250409T100000
DTSTAMP:20260421T173741
CREATED:20250311T171537Z
LAST-MODIFIED:20250321T130644Z
UID:8156-1744189200-1744192800@educationfoundationsfl.org
SUMMARY:Consortium Conference Planning Call with Members
DESCRIPTION:Content is protected.
URL:https://educationfoundationsfl.org/event/auto-draft-59/
LOCATION:Microsoft Teams Meeting
CATEGORIES:Private Event
ORGANIZER;CN="Tracy Burger":MAILTO:tracyburger@cfef.net
END:VEVENT
BEGIN:VEVENT
DTSTART;TZID=America/New_York:20250409T100000
DTEND;TZID=America/New_York:20250409T110000
DTSTAMP:20260421T173741
CREATED:20250407T180617Z
LAST-MODIFIED:20250407T180731Z
UID:8420-1744192800-1744196400@educationfoundationsfl.org
SUMMARY:TSIC Learning Community
DESCRIPTION:Content is protected.
URL:https://educationfoundationsfl.org/event/auto-draft-64/
LOCATION:Zoom Meeting
CATEGORIES:Private Event
ORGANIZER;CN="Tracy Burger":MAILTO:tracyburger@cfef.net
END:VEVENT
END:VCALENDAR